BEGIN:VCALENDAR
VERSION:2.0
PRODID:-//ChamberMaster//Event Calendar 2.0//EN
METHOD:PUBLISH
X-PUBLISHED-TTL:P3D
REFRESH-INTERVAL:P3D
CALSCALE:GREGORIAN
BEGIN:VEVENT
DTSTART:20140927T150000Z
DTEND:20140927T200000Z
X-MICROSOFT-CDO-ALLDAYEVENT:FALSE
SUMMARY:John Bloom Arts Festival
DESCRIPTION:Local artists and craftsmen have their creations for sale. There are children's activities. Musicians perform throughout the day. Food is available on site. The event is sponsored by the DeWitt Area Fine Arts Foundation.
X-ALT-DESC;FMTTYPE=text/html:Local artists and craftsmen have their creations for sale. There are children&#39\;s activities. Musicians perform throughout the day. Food is available on site. The event is sponsored by the DeWitt Area Fine Arts Foundation.
LOCATION:Lincoln Park
UID:e.1774.148
SEQUENCE:3
DTSTAMP:20260421T222738Z
URL:https://business.dewittiowa.org/events/details/john-bloom-arts-festival-09-27-2014-148
END:VEVENT

END:VCALENDAR
