BEGIN:VCALENDAR
VERSION:2.0
PRODID:-//ChamberMaster//Event Calendar 2.0//EN
METHOD:PUBLISH
X-PUBLISHED-TTL:P3D
REFRESH-INTERVAL:P3D
CALSCALE:GREGORIAN
BEGIN:VEVENT
DTSTART:20170916T150000Z
DTEND:20170916T200000Z
X-MICROSOFT-CDO-ALLDAYEVENT:FALSE
SUMMARY:John Bloom Arts Festival
DESCRIPTION:The John Bloom Arts Festival\n\nSaturday\, September 16\, 2017\n\n    Local artists and crafters will have their creations for sale in Lincoln Park\, DeWitt\n\n 10:00 am to 3:00 pm. \n\n    There is a make-and-take art table for children\n\n    Food is available in the park\n\nSponsored by the DeWitt Area Fine Arts Foundation
X-ALT-DESC;FMTTYPE=text/html:<div style="text-align: center\;">&nbsp\;&nbsp\;&nbsp\;<span style="font-size:14px"><strong>&nbsp\;The John Bloom Arts Festival</strong><br />\nSaturday\, September 16\, 2017<br />\n&nbsp\;&nbsp\;&nbsp\;&nbsp\;Local artists and crafters will have their creations for sale in Lincoln Park\, DeWitt<br />\n&nbsp\;10:00 am to 3:00 pm.&nbsp\;</span><br />\n&nbsp\;&nbsp\;&nbsp\;&nbsp\;<span style="font-size:14px">There is a make-and-take art table for children</span><br />\n&nbsp\;&nbsp\;&nbsp\;&nbsp\;<span style="font-size:14px">Food is available in the park</span><br />\n<span style="font-size: 14px\; text-align: center\;">Sponsored by the DeWitt Area Fine Arts Foundation&nbsp\;</span><br />\n<span style="font-size:14px">&nbsp\;</span></div>\n
LOCATION:Lincoln Park\, DeWitt
UID:e.1774.3090
SEQUENCE:3
DTSTAMP:20260419T134009Z
URL:https://business.dewittiowa.org/events/details/john-bloom-arts-festival-3090
END:VEVENT

END:VCALENDAR
