BEGIN:VCALENDAR
VERSION:2.0
PRODID:-//ChamberMaster//Event Calendar 2.0//EN
METHOD:PUBLISH
X-PUBLISHED-TTL:P3D
REFRESH-INTERVAL:P3D
CALSCALE:GREGORIAN
BEGIN:VEVENT
DTSTART:20160709T003000Z
DTEND:20160709T020000Z
X-MICROSOFT-CDO-ALLDAYEVENT:FALSE
SUMMARY:Johnsmith in Concert
DESCRIPTION:Singer/songwriter Johnsmith will be in concert at the Central DeWitt Performing Arts Center on Friday\, July 8\, at 7:30 p.m.  Tickets are $20.00 and may be purchased at the door the night of the concert.  Doors will open one hour before the performance.  The DeWitt Area Fine Arts Foundation has arranged for Johnsmith to return to his hometown of DeWitt and sing every other year since 2006.
X-ALT-DESC;FMTTYPE=text/html:Singer/songwriter Johnsmith will be in concert at the Central DeWitt Performing Arts Center on Friday\, July 8\, at 7:30 p.m.&nbsp\; Tickets are $20.00 and may be purchased at the door the night of the concert.&nbsp\; Doors will open one hour before the performance.&nbsp\; The DeWitt Area Fine Arts Foundation has arranged for Johnsmith to return to his hometown of DeWitt and sing every other year since 2006.&nbsp\;
LOCATION:Central DeWitt Performing Arts Center\, 519 E. 11th Street\, DeWitt\, Iowa
UID:e.1774.1404
SEQUENCE:3
DTSTAMP:20260420T104616Z
URL:https://business.dewittiowa.org/events/details/johnsmith-in-concert-07-08-2016-1404
END:VEVENT

END:VCALENDAR
