BEGIN:VCALENDAR
VERSION:2.0
PRODID:-//ChamberMaster//Event Calendar 2.0//EN
METHOD:PUBLISH
X-PUBLISHED-TTL:P3D
REFRESH-INTERVAL:P3D
CALSCALE:GREGORIAN
BEGIN:VEVENT
DTSTART:20140803T003000Z
DTEND:20140803T030000Z
X-MICROSOFT-CDO-ALLDAYEVENT:FALSE
SUMMARY:johnsmith in concert
DESCRIPTION:johnsmith\, a singer/songwriter from Wisconsin\, was born and raised in DeWitt. John's music is influenced by folk\, blues and country. His original songs are about growing up\, love\, loss and the journey of life.
X-ALT-DESC;FMTTYPE=text/html:johnsmith\, a singer/songwriter from Wisconsin\, was born and raised in DeWitt. John&#39\;s music is influenced by folk\, blues and country. His original songs are about growing up\, love\, loss and the journey of life.
LOCATION:Central Performing Arts Center\, 519 East 11th Street\, DeWitt
UID:e.1774.95
SEQUENCE:3
DTSTAMP:20260422T010820Z
URL:https://business.dewittiowa.org/events/details/johnsmith-in-concert-08-02-2014-95
END:VEVENT

END:VCALENDAR
