BEGIN:VCALENDAR
VERSION:2.0
PRODID:-//ChamberMaster//Event Calendar 2.0//EN
METHOD:PUBLISH
X-PUBLISHED-TTL:P3D
REFRESH-INTERVAL:P3D
CALSCALE:GREGORIAN
BEGIN:VEVENT
DTSTART:20160512T230000Z
DTEND:20160513T000000Z
X-MICROSOFT-CDO-ALLDAYEVENT:FALSE
SUMMARY:Join Cub Scouts
DESCRIPTION:Cub Scout Pack 29 from DeWitt will be holding a spring recruitment for all boys in Kindergarten going into First Grade!
X-ALT-DESC;FMTTYPE=text/html:Cub Scout Pack 29 from DeWitt will be holding a spring recruitment for all boys in Kindergarten going into First Grade!
LOCATION:Lincoln Park Pavilion
UID:e.1774.1348
SEQUENCE:3
DTSTAMP:20260420T135501Z
URL:https://business.dewittiowa.org/events/details/join-cub-scouts-05-12-2016-1348
END:VEVENT

END:VCALENDAR
