BEGIN:VCALENDAR
VERSION:2.0
PRODID:-//ChamberMaster//Event Calendar 2.0//EN
METHOD:PUBLISH
X-PUBLISHED-TTL:P3D
REFRESH-INTERVAL:P3D
CALSCALE:GREGORIAN
BEGIN:VEVENT
DTSTART:20150915T230000Z
DTEND:20150916T000000Z
X-MICROSOFT-CDO-ALLDAYEVENT:FALSE
SUMMARY:Join Cub Scouts!
DESCRIPTION:Boys 1st through 5th grades are invited to Join Cub Scout Pack 29 out of DeWitt\, Iowa!
X-ALT-DESC;FMTTYPE=text/html:Boys 1st through 5th grades are invited to Join Cub Scout Pack 29 out of DeWitt\, Iowa!
LOCATION:DeWitt Community Center
UID:e.1774.1034
SEQUENCE:3
DTSTAMP:20260421T025813Z
URL:https://business.dewittiowa.org/events/details/join-cub-scouts-09-15-2015-1034
END:VEVENT

END:VCALENDAR
