BEGIN:VCALENDAR
VERSION:2.0
PRODID:-//ChamberMaster//Event Calendar 2.0//EN
METHOD:PUBLISH
X-PUBLISHED-TTL:P3D
REFRESH-INTERVAL:P3D
CALSCALE:GREGORIAN
BEGIN:VEVENT
DTSTART:20170618T220000Z
DTEND:20170619T010000Z
X-MICROSOFT-CDO-ALLDAYEVENT:FALSE
SUMMARY:Join Us at Springbrook Country Club for CDCSD Golf Team Reception
DESCRIPTION:JOIN US\n\nSunday\, June 18th   5:00 PM\n\nSpringbrook Country Club\n\n\n\nIn celebration of the Central DeWitt Golf Teams 2017 season\, Springbrook Country Club invites you to a reception on Sunday\, June 18th!
X-ALT-DESC;FMTTYPE=text/html:JOIN US<br />\nSunday\, June 18th &bull\; 5:00 PM<br />\nSpringbrook Country Club<br />\n<br />\nIn celebration of the Central DeWitt Golf Teams 2017 season\, Springbrook Country Club invites you to a reception on Sunday\, June 18th!
LOCATION:Springbrook Country Club 2122 17th Ave DeWitt\, IA
UID:e.1774.3119
SEQUENCE:3
DTSTAMP:20260419T165858Z
URL:https://business.dewittiowa.org/events/details/join-us-at-springbrook-country-club-for-cdcsd-golf-team-reception-3119
END:VEVENT

END:VCALENDAR
