BEGIN:VCALENDAR
VERSION:2.0
PRODID:-//ChamberMaster//Event Calendar 2.0//EN
METHOD:PUBLISH
X-PUBLISHED-TTL:P3D
REFRESH-INTERVAL:P3D
CALSCALE:GREGORIAN
BEGIN:VEVENT
DTSTART:20160704T120000Z
DTEND:20160704T150000Z
X-MICROSOFT-CDO-ALLDAYEVENT:FALSE
SUMMARY:July 4th DeWitt Noon Lions Pancake Breakfast
DESCRIPTION:DeWitt Noon Lions Pancake Breakfast including: Pancakes\, sausage\, and eggs with juice\, milk and coffee
X-ALT-DESC;FMTTYPE=text/html:DeWitt Noon Lions Pancake Breakfast including: Pancakes\, sausage\, and eggs with juice\, milk and coffee
LOCATION:DeWitt Community Center
UID:e.1774.1390
SEQUENCE:3
DTSTAMP:20260420T104810Z
URL:https://business.dewittiowa.org/events/details/july-4th-dewitt-noon-lions-pancake-breakfast-07-04-2016-1390
END:VEVENT

END:VCALENDAR
