BEGIN:VCALENDAR
VERSION:2.0
PRODID:-//ChamberMaster//Event Calendar 2.0//EN
METHOD:PUBLISH
X-PUBLISHED-TTL:P3D
REFRESH-INTERVAL:P3D
CALSCALE:GREGORIAN
BEGIN:VEVENT
DTSTART:20140704T120000Z
DTEND:20140704T150000Z
X-MICROSOFT-CDO-ALLDAYEVENT:FALSE
SUMMARY:July 4th Pancake Breakfast
DESCRIPTION:DeWitt Noon Lions Annual Pancake Breakfast - serving pancakes\, sausage\, scrambled eggs\, coffee\, juice and milk.
X-ALT-DESC;FMTTYPE=text/html:DeWitt Noon Lions Annual Pancake Breakfast - serving pancakes\, sausage\, scrambled eggs\, coffee\, juice and milk.
LOCATION:DeWitt Community Center\, 512 10th St.\, DeWitt
UID:e.1774.90
SEQUENCE:3
DTSTAMP:20260422T023945Z
URL:https://business.dewittiowa.org/events/details/july-4th-pancake-breakfast-07-04-2014-90
END:VEVENT

END:VCALENDAR
