BEGIN:VCALENDAR
VERSION:2.0
PRODID:-//ChamberMaster//Event Calendar 2.0//EN
METHOD:PUBLISH
X-PUBLISHED-TTL:P3D
REFRESH-INTERVAL:P3D
CALSCALE:GREGORIAN
BEGIN:VEVENT
DTSTART;VALUE=DATE:20160407
DTEND;VALUE=DATE:20160408
TRANSP:TRANSPARENT
X-MICROSOFT-CDO-ALLDAYEVENT:TRUE
SUMMARY:Junior Achievement Day
DESCRIPTION:For 60 years\, Junior Achievement of the Heartland has been empowering young people to own their economic success.  From Washington\, Iowa to Galena\, Illinois and everywhere else in-between   JA has been there to show students how to successfully apply for a job\, manage their money\, or start and grow a business. \n\nBut the real heroes behind JA's success are community members\, like you!  Your tremendous support makes JA's mission a reality for more than 55\,000 students throughout our 24-county area.\n\nJoin us Thursday\, April 7 to celebrate you and JA's mission in our communities!\n\n\n\nVisit jaheartland.org for more information.
X-ALT-DESC;FMTTYPE=text/html:<p>For 60 years\, Junior Achievement of the Heartland has been empowering young people to own their economic success.&nbsp\; From Washington\, Iowa to Galena\, Illinois and everywhere else in-between &ndash\; JA has been there to show students how to successfully apply for a job\, manage their money\, or start and grow a business.&nbsp\;</p>\n\n<p>But the real heroes behind JA&rsquo\;s success are community members\, like you!&nbsp\; Your tremendous support makes JA&rsquo\;s mission a reality for more than 55\,000 students throughout our 24-county area.</p>\n\n<p>Join us Thursday\, April 7 to celebrate you and JA&rsquo\;s mission in our communities!<br />\n<br />\nVisit jaheartland.org for more information.</p>\n
LOCATION:
UID:e.1774.1288
SEQUENCE:3
DTSTAMP:20260420T152442Z
URL:https://business.dewittiowa.org/events/details/junior-achievement-day-04-07-2016-1288
END:VEVENT

END:VCALENDAR
