BEGIN:VCALENDAR
VERSION:2.0
PRODID:-//ChamberMaster//Event Calendar 2.0//EN
METHOD:PUBLISH
X-PUBLISHED-TTL:P3D
REFRESH-INTERVAL:P3D
CALSCALE:GREGORIAN
BEGIN:VEVENT
DTSTART:20141010T234500Z
DTEND:20141011T023000Z
X-MICROSOFT-CDO-ALLDAYEVENT:FALSE
SUMMARY:Junior Women Scavenger Hunt
DESCRIPTION:DeWitt Jr. Women \n\n\n\n \n\nWhen:         Friday\, October 10th\n\nMust be registered by 6:45 that night or call Danica at 319-330-7051 to register your team prior to the event\n\n                        Hunt from 7:00   9:00pm\n\n \n\nWhere:        Start and Finish at Buzzy's\, Welton\, Iowa\n\n \n\nCost:          $60 per team\, 4-6 members per team\, team must be in one vehicle\n\n \n\nPrizes:        1st Place $120\n\n                        2nd Place $60\n\n                                   \n\nMust supply:    Digital Camera\n\n \n\nPlease Note:\n\n\n	The hunt will consist of finding items\, taking pictures of items/ events and trivia questions\n	Teams will get one point for every item they have correct\n	Winning team is the team with the most points\n	ALL decisions are final\, NO arguing or disputing!!!\n	In the event of a tie breaker\, we will have a tie breaker questions or activity\n	EACH TEAM MUST HAVE A DESIGNATED DRIVER\n	DEWITT JR. WOMEN WILL NOT BE HELD RESPONSIBLE FOR ANY ACCIDENTS THAT OCCURR BEFORE/AFTER OR WHILE PARTICIPATING\n\n \n\nThank you   DeWitt Jr. Women
X-ALT-DESC;FMTTYPE=text/html:<strong><span style="font-size: 36pt\;"><span style="font-family: bradley hand itc\;">DeWitt Jr. Women </span></span></strong><br />\n<br />\n&nbsp\;<br />\n<strong><span style="font-size: 16pt\;"><span style="font-family: bradley hand itc\;">When:</span></span></strong>&nbsp\;&nbsp\;&nbsp\;&nbsp\;&nbsp\;&nbsp\;&nbsp\;&nbsp\; <span style="font-family: calibri\,sans-serif\;"><span style="font-size: medium\;">Friday\, October </span></span><span style="font-family: calibri\,sans-serif\;"><span style="font-size: medium\;">10</span></span><sup><span style="font-size: small\;">th</span></sup><br />\n<span style="font-family: calibri\,sans-serif\;"><span style="font-size: medium\;">Must be registered by 6:45 that night or call Danica at 319-330-7051 to register your team prior to the event</span></span><br />\n<span style="font-size: medium\;"><span style="font-family: calibri\,sans-serif\;">&nbsp\;&nbsp\;&nbsp\;&nbsp\;&nbsp\;&nbsp\;&nbsp\;&nbsp\;&nbsp\;&nbsp\;&nbsp\; &nbsp\;&nbsp\;&nbsp\;&nbsp\;&nbsp\;&nbsp\;&nbsp\;&nbsp\;&nbsp\;&nbsp\;&nbsp\; Hunt from 7:00 &ndash\; 9:00pm</span></span><br />\n&nbsp\;<br />\n<span style="font-size: medium\;"><span style="font-family: times new roman\;"><strong><span style="font-size: 16pt\;"><span style="font-family: bradley hand itc\;">Where:</span></span></strong></span> &nbsp\;&nbsp\;&nbsp\;&nbsp\;&nbsp\;&nbsp\; <span style="font-family: calibri\,sans-serif\;">Start and Finish at Buzzy&rsquo\;s\, Welton\, Iowa</span></span><br />\n&nbsp\;<br />\n<strong><span style="font-size: 16pt\;"><span style="font-family: bradley hand itc\;">Cost:&nbsp\;&nbsp\;&nbsp\;&nbsp\;&nbsp\;&nbsp\;&nbsp\; &nbsp\;&nbsp\;</span></span></strong><span style="font-family: calibri\,sans-serif\;"><span style="font-size: medium\;">$60 per team\, 4-6 members per team\, team must be in one vehicle</span></span><br />\n&nbsp\;<br />\n<strong><span style="font-size: 16pt\;"><span style="font-family: bradley hand itc\;">Prizes:</span></span></strong>&nbsp\;&nbsp\;&nbsp\;&nbsp\;&nbsp\;&nbsp\;&nbsp\; <span style="font-family: calibri\,sans-serif\;"><span style="font-size: medium\;">1</span></span><sup><span style="font-size: small\;">st</span></sup><span style="font-size: medium\;"> Place $120</span><br />\n<span style="font-family: calibri\,sans-serif\;"><span style="font-size: medium\;">&nbsp\;&nbsp\;&nbsp\;&nbsp\;&nbsp\;&nbsp\;&nbsp\;&nbsp\;&nbsp\;&nbsp\;&nbsp\;&nbsp\;&nbsp\;&nbsp\;&nbsp\;&nbsp\;&nbsp\;&nbsp\;&nbsp\;&nbsp\;&nbsp\;&nbsp\;&nbsp\; 2</span></span><span style="font-size: medium\;"><sup><span style="font-size: small\;">nd</span></sup></span> Place $60<br />\n&nbsp\;&nbsp\;&nbsp\;&nbsp\;&nbsp\;&nbsp\;&nbsp\;&nbsp\;&nbsp\;&nbsp\;&nbsp\;&nbsp\;&nbsp\;&nbsp\;&nbsp\;&nbsp\;&nbsp\;&nbsp\;&nbsp\;&nbsp\;&nbsp\;&nbsp\;&nbsp\;&nbsp\;&nbsp\;&nbsp\;&nbsp\;&nbsp\;&nbsp\;&nbsp\;&nbsp\;&nbsp\;&nbsp\;&nbsp\;&nbsp\;<br />\n<span style="font-size: medium\;"><strong><span style="font-size: 16pt\;"><span style="font-family: bradley hand itc\;">Must supply: </span></span></strong></span>&nbsp\;&nbsp\; <span style="font-family: calibri\,sans-serif\;">Digital Camera</span><br />\n&nbsp\;<br />\n<strong><span style="font-size: 16pt\;"><span style="font-family: bradley hand itc\;">Please Note:</span></span></strong>\n\n<ul>\n	<li><span style="font-size: medium\;"><span style="font-family: calibri\,sans-serif\;">The hunt will consist of finding items\, taking pictures of items/ events and trivia questions</span></span></li>\n	<li><span style="font-family: calibri\,sans-serif\;"><span style="font-size: medium\;">Teams will get one point for every item they have correct</span></span></li>\n	<li><span style="font-family: calibri\,sans-serif\;"><span style="font-size: medium\;">Winning team is the team with the most points</span></span></li>\n	<li><span style="font-family: calibri\,sans-serif\;"><span style="font-size: medium\;">ALL decisions are final\, NO arguing or disputing!!!</span></span></li>\n	<li><span style="font-family: calibri\,sans-serif\;"><span style="font-size: medium\;">In the event of a tie breaker\, we will have a tie breaker questions or activity</span></span></li>\n	<li><span style="font-family: calibri\,sans-serif\;"><span style="font-size: medium\;">EACH TEAM MUST HAVE A DESIGNATED DRIVER</span></span></li>\n	<li><span style="font-family: calibri\,sans-serif\;"><span style="font-size: medium\;">DEWITT JR. WOMEN WILL NOT BE HELD RESPONSIBLE FOR ANY ACCIDENTS THAT OCCURR BEFORE/AFTER OR WHILE PARTICIPATING</span></span></li>\n</ul>\n&nbsp\;<br />\n<span style="font-family: bradley hand itc\;"><span style="font-size: medium\;">Thank you &ndash\; DeWitt Jr. Women</span></span><br />\n&nbsp\;
LOCATION:Buzzy's Welton Iowa
UID:e.1774.186
SEQUENCE:3
DTSTAMP:20260421T203809Z
URL:https://business.dewittiowa.org/events/details/junior-women-scavenger-hunt-10-10-2014-186
END:VEVENT

END:VCALENDAR
