BEGIN:VCALENDAR
VERSION:2.0
PRODID:-//ChamberMaster//Event Calendar 2.0//EN
METHOD:PUBLISH
X-PUBLISHED-TTL:P3D
REFRESH-INTERVAL:P3D
CALSCALE:GREGORIAN
BEGIN:VEVENT
DTSTART:20160611T183000Z
DTEND:20160611T220000Z
X-MICROSOFT-CDO-ALLDAYEVENT:FALSE
SUMMARY:Just Before the Battle Mother - A Visit from a Civil War Soldier
DESCRIPTION:Humanities Iowa\, in connection with the National Endowment for the Humanities presents "Just Before the Battle Mother--A Visit from a Civil War Soldier" by O. J. Fargo. Mr. Fargo dresses in full Union Army regalia for a presentation about the experiences of a returning Civil War soldier.
X-ALT-DESC;FMTTYPE=text/html:Humanities Iowa\, in connection with the National Endowment for the Humanities presents &quot\;Just Before the Battle Mother--A Visit from a Civil War Soldier&quot\; by O. J. Fargo. Mr. Fargo dresses in full Union Army regalia for a presentation about the experiences of a returning Civil War soldier.
LOCATION:Frances Banta Waggoner Community Library 505 10th St. DeWitt\, IA 52742
UID:e.1774.1359
SEQUENCE:3
DTSTAMP:20260420T122841Z
URL:https://business.dewittiowa.org/events/details/just-before-the-battle-mother-a-visit-from-a-civil-war-soldier-06-11-2016-1359
END:VEVENT

END:VCALENDAR
