BEGIN:VCALENDAR
VERSION:2.0
PRODID:-//ChamberMaster//Event Calendar 2.0//EN
METHOD:PUBLISH
X-PUBLISHED-TTL:P3D
REFRESH-INTERVAL:P3D
CALSCALE:GREGORIAN
BEGIN:VEVENT
DTSTART:20170616T160000Z
DTEND:20170616T190000Z
X-MICROSOFT-CDO-ALLDAYEVENT:FALSE
SUMMARY:KC Brat Stand
DESCRIPTION:The Knights of Columbus will be running the Barnes Brat Stand.
X-ALT-DESC;FMTTYPE=text/html:The Knights of Columbus will be running the Barnes Brat Stand.
LOCATION:East Parking lot of Barnes Foodland 622 10th St. DeWitt\, IA
UID:e.1774.3115
SEQUENCE:3
DTSTAMP:20260419T182219Z
URL:https://business.dewittiowa.org/events/details/kc-brat-stand-3115
END:VEVENT

END:VCALENDAR
