BEGIN:VCALENDAR
VERSION:2.0
PRODID:-//ChamberMaster//Event Calendar 2.0//EN
METHOD:PUBLISH
X-PUBLISHED-TTL:P3D
REFRESH-INTERVAL:P3D
CALSCALE:GREGORIAN
BEGIN:VEVENT
DTSTART;VALUE=DATE:20141229
DTEND;VALUE=DATE:20141230
TRANSP:TRANSPARENT
X-MICROSOFT-CDO-ALLDAYEVENT:TRUE
SUMMARY:Kids' Business Hall of Fame Fundraiser
DESCRIPTION:Kids' Business\, Inc. Fundraiser Monday\, December 29th 5:30-7:30 @Hall of Fame\n\n\n\nKids' Business\, Inc. invites you to enjoy dinner at Hall of Fame on Monday!\n\n\n\nHall of Fame will graciously donate a portion of all buffet meals purchased to Kids' Business. These proceeds will be used to purchase classroom laptops and necessary equipment. This technology will directly benefit children and assist teachers in their instruction. Hope to see you there!
X-ALT-DESC;FMTTYPE=text/html:Kids&#39\;&nbsp\;Business\, Inc. Fundraiser Monday\, December 29th 5:30-7:30 @Hall of Fame<br />\n<br />\nKids&#39\;&nbsp\;Business\, Inc. invites you to enjoy dinner at Hall of Fame on Monday!<br />\n<br />\nHall of Fame will graciously donate a portion of all buffet meals purchased to Kids&#39\; Business. These proceeds will be used to purchase classroom laptops and necessary equipment. This technology will directly benefit children and assist teachers in their instruction. Hope to see you there!
LOCATION:Hall of Fame Pizza 902 6th Ave DeWitt\, IA
UID:e.1774.242
SEQUENCE:3
DTSTAMP:20260421T172234Z
URL:https://business.dewittiowa.org/events/details/kids-business-hall-of-fame-fundraiser-12-29-2014-242
END:VEVENT

END:VCALENDAR
