BEGIN:VCALENDAR
VERSION:2.0
PRODID:-//ChamberMaster//Event Calendar 2.0//EN
METHOD:PUBLISH
X-PUBLISHED-TTL:P3D
REFRESH-INTERVAL:P3D
CALSCALE:GREGORIAN
BEGIN:VEVENT
DTSTART:20150730T120000Z
DTEND:20150731T000000Z
X-MICROSOFT-CDO-ALLDAYEVENT:FALSE
SUMMARY:Kids Frame Show
DESCRIPTION:Our KIDS FRAME SHOW is coming! Free screenings and refreshments will be available! And of course BUY ONE PAIR\, GET ONE PAIR FREE!\n\nSee one of our helpful and experienced opticians for more details or call our office at 563-659-2020!
X-ALT-DESC;FMTTYPE=text/html:<p>Our KIDS FRAME SHOW is coming! Free screenings and refreshments will be available! And of course BUY ONE PAIR\, GET ONE PAIR FREE!</p>\n\n<p>See one of our helpful and experienced opticians for more details or call our office at 563-659-2020!</p>\n
LOCATION:1107 9th Ave. DeWitt\, IA 52742
UID:e.1774.983
SEQUENCE:3
DTSTAMP:20260421T061233Z
URL:https://business.dewittiowa.org/events/details/kids-frame-show-07-30-2015-983
END:VEVENT

END:VCALENDAR
