BEGIN:VCALENDAR
VERSION:2.0
PRODID:-//ChamberMaster//Event Calendar 2.0//EN
METHOD:PUBLISH
X-PUBLISHED-TTL:P3D
REFRESH-INTERVAL:P3D
CALSCALE:GREGORIAN
BEGIN:VEVENT
DTSTART:20160804T120000Z
DTEND:20160805T000000Z
X-MICROSOFT-CDO-ALLDAYEVENT:FALSE
SUMMARY:Kids Frame Show
DESCRIPTION:Bring the whole family as you will be treated to a bounce house\, treats\, and deals for your children's eyecare!\n\n\n\nSavings up to $150 and price ranges for all!\n\n\n\nChildren's examinations will be $79 for the event only!\n\n\n\nA frame representative will be present all afternoon with a large selection and expert advice!
X-ALT-DESC;FMTTYPE=text/html:Bring the whole family as you will be treated to a bounce house\, treats\, and deals for your children&#39\;s eyecare!<br />\n<br />\nSavings up to $150 and price ranges for all!<br />\n<br />\nChildren&#39\;s examinations will be $79 for the event only!<br />\n<br />\nA frame representative will be present all afternoon with a large selection and expert advice!
LOCATION:
UID:e.1774.1516
SEQUENCE:3
DTSTAMP:20260420T092017Z
URL:https://business.dewittiowa.org/events/details/kids-frame-show-08-04-2016-1516
END:VEVENT

END:VCALENDAR
