BEGIN:VCALENDAR
VERSION:2.0
PRODID:-//ChamberMaster//Event Calendar 2.0//EN
METHOD:PUBLISH
X-PUBLISHED-TTL:P3D
REFRESH-INTERVAL:P3D
CALSCALE:GREGORIAN
BEGIN:VEVENT
DTSTART:20170128T170000Z
DTEND:20170128T174500Z
X-MICROSOFT-CDO-ALLDAYEVENT:FALSE
SUMMARY:Kids' Klub
DESCRIPTION:Kindergarten\, first & second graders are invited to come to do an experiment\, create a snack (and eat it too)\, do a project AND make a piece of art!
X-ALT-DESC;FMTTYPE=text/html:Kindergarten\, first &amp\; second graders are invited to come to do an experiment\, create a snack (and eat it too)\, do a project AND make a piece of art!
LOCATION:Frances Banta Waggoner Community Library Meeting Room 505 10th St. DeWitt\, IA
UID:e.1774.1833
SEQUENCE:3
DTSTAMP:20260420T025441Z
URL:https://business.dewittiowa.org/events/details/kids-klub-01-28-2017-1833
END:VEVENT

END:VCALENDAR
