BEGIN:VCALENDAR
VERSION:2.0
PRODID:-//ChamberMaster//Event Calendar 2.0//EN
METHOD:PUBLISH
X-PUBLISHED-TTL:P3D
REFRESH-INTERVAL:P3D
CALSCALE:GREGORIAN
BEGIN:VEVENT
DTSTART:20170211T170000Z
DTEND:20170211T174500Z
X-MICROSOFT-CDO-ALLDAYEVENT:FALSE
SUMMARY:Kids Klub
DESCRIPTION:Activities for Kindergarten\, 1st\, & 2nd graders at the library!
X-ALT-DESC;FMTTYPE=text/html:Activities for Kindergarten\, 1st\, &amp\; 2nd graders at the library!
LOCATION:Frances Banta Waggoner Community Library 505 10th St. DeWitt\, IA
UID:e.1774.1849
SEQUENCE:3
DTSTAMP:20260419T234740Z
URL:https://business.dewittiowa.org/events/details/kids-klub-02-11-2017-1849
END:VEVENT

END:VCALENDAR
