BEGIN:VCALENDAR
VERSION:2.0
PRODID:-//ChamberMaster//Event Calendar 2.0//EN
METHOD:PUBLISH
X-PUBLISHED-TTL:P3D
REFRESH-INTERVAL:P3D
CALSCALE:GREGORIAN
BEGIN:VEVENT
DTSTART:20170304T170000Z
DTEND:20170304T174500Z
X-MICROSOFT-CDO-ALLDAYEVENT:FALSE
SUMMARY:Kids Klub
DESCRIPTION:Crafts\, experiments\, snacks\, and activities for Kindergarten\, First\, and Second Graders!
X-ALT-DESC;FMTTYPE=text/html:Crafts\, experiments\, snacks\, and activities for Kindergarten\, First\, and Second Graders!
LOCATION:The Meeting Room at the DeWitt Library
UID:e.1774.1875
SEQUENCE:3
DTSTAMP:20260419T220747Z
URL:https://business.dewittiowa.org/events/details/kids-klub-03-04-2017-1875
END:VEVENT

END:VCALENDAR
