BEGIN:VCALENDAR
VERSION:2.0
PRODID:-//ChamberMaster//Event Calendar 2.0//EN
METHOD:PUBLISH
X-PUBLISHED-TTL:P3D
REFRESH-INTERVAL:P3D
CALSCALE:GREGORIAN
BEGIN:VEVENT
DTSTART:20170408T160000Z
DTEND:20170408T170000Z
X-MICROSOFT-CDO-ALLDAYEVENT:FALSE
SUMMARY:Kids' Klub
DESCRIPTION:Fun activities including an experiment\, a craft\, a snack\, and a scavenger hunt!
X-ALT-DESC;FMTTYPE=text/html:Fun activities including an experiment\, a craft\, a snack\, and a scavenger hunt!
LOCATION:In the Meeting Room at the Library
UID:e.1774.1946
SEQUENCE:3
DTSTAMP:20260419T201528Z
URL:https://business.dewittiowa.org/events/details/kids-klub-04-08-2017-1946
END:VEVENT

END:VCALENDAR
