BEGIN:VCALENDAR
VERSION:2.0
PRODID:-//ChamberMaster//Event Calendar 2.0//EN
METHOD:PUBLISH
X-PUBLISHED-TTL:P3D
REFRESH-INTERVAL:P3D
CALSCALE:GREGORIAN
BEGIN:VEVENT
DTSTART:20170610T160000Z
DTEND:20170610T170000Z
X-MICROSOFT-CDO-ALLDAYEVENT:FALSE
SUMMARY:Kids' Klub
DESCRIPTION:For kindergarten thru 2nd grade - - crafts\, activities\, snacks\, and fun.
X-ALT-DESC;FMTTYPE=text/html:For kindergarten thru 2nd grade - - crafts\, activities\, snacks\, and fun.
LOCATION:Frances Banta Waggoner Community Library Meeting Room 505 10th St. DeWitt\, IA
UID:e.1774.3105
SEQUENCE:3
DTSTAMP:20260419T165239Z
URL:https://business.dewittiowa.org/events/details/kids-klub-06-10-2017-3105
END:VEVENT

END:VCALENDAR
