BEGIN:VCALENDAR
VERSION:2.0
PRODID:-//ChamberMaster//Event Calendar 2.0//EN
METHOD:PUBLISH
X-PUBLISHED-TTL:P3D
REFRESH-INTERVAL:P3D
CALSCALE:GREGORIAN
BEGIN:VEVENT
DTSTART:20170701T160000Z
DTEND:20170701T164500Z
X-MICROSOFT-CDO-ALLDAYEVENT:FALSE
SUMMARY:Kids' Klub
DESCRIPTION:Fun activities\, crafts\, and snacks for kids in kindergarten\, first\, and second grades!
X-ALT-DESC;FMTTYPE=text/html:Fun activities\, crafts\, and snacks for kids in kindergarten\, first\, and second grades!
LOCATION:Frances Banta Waggoner Community Library Meeting Room 505 10th St. DeWitt\, IA
UID:e.1774.3162
SEQUENCE:3
DTSTAMP:20260419T152528Z
URL:https://business.dewittiowa.org/events/details/kids-klub-07-01-2017-3162
END:VEVENT

END:VCALENDAR
