BEGIN:VCALENDAR
VERSION:2.0
PRODID:-//ChamberMaster//Event Calendar 2.0//EN
METHOD:PUBLISH
X-PUBLISHED-TTL:P3D
REFRESH-INTERVAL:P3D
CALSCALE:GREGORIAN
BEGIN:VEVENT
DTSTART:20161008T160000Z
DTEND:20161008T164500Z
X-MICROSOFT-CDO-ALLDAYEVENT:FALSE
SUMMARY:Kids Klub
DESCRIPTION:For early elementary kids - - K\, 1st\, & 2nd grades . . . IT'S "MAD SCIENTIST DAY"!
X-ALT-DESC;FMTTYPE=text/html:For early elementary kids - - K\, 1st\, &amp\; 2nd grades . . . IT&#39\;S &quot\;MAD SCIENTIST DAY&quot\;!
LOCATION:Frances Banta Waggoner Community Library 505 10th St. DeWitt\, IA
UID:e.1774.1614
SEQUENCE:3
DTSTAMP:20260420T073810Z
URL:https://business.dewittiowa.org/events/details/kids-klub-10-08-2016-1614
END:VEVENT

END:VCALENDAR
