BEGIN:VCALENDAR
VERSION:2.0
PRODID:-//ChamberMaster//Event Calendar 2.0//EN
METHOD:PUBLISH
X-PUBLISHED-TTL:P3D
REFRESH-INTERVAL:P3D
CALSCALE:GREGORIAN
BEGIN:VEVENT
DTSTART:20161210T170000Z
DTEND:20161210T180000Z
X-MICROSOFT-CDO-ALLDAYEVENT:FALSE
SUMMARY:Kids Klub
DESCRIPTION:Kids Klub is a monthly club for kindergarten\, first\, and second graders. December's club will include a Christmas story . . . craft . . . snack . . . science experiment . . . AND a handmade gift to make.
X-ALT-DESC;FMTTYPE=text/html:Kids Klub is a monthly club for kindergarten\, first\, and second graders. December&#39\;s club will include a Christmas story . . . craft . . . snack . . . science experiment . . . AND a handmade gift to make.
LOCATION:Library Meeting Room Frances Banta Waggoner Community Library 505 10th St. DeWitt\, IA
UID:e.1774.1715
SEQUENCE:3
DTSTAMP:20260420T043220Z
URL:https://business.dewittiowa.org/events/details/kids-klub-12-10-2016-1715
END:VEVENT

END:VCALENDAR
