BEGIN:VCALENDAR
VERSION:2.0
PRODID:-//ChamberMaster//Event Calendar 2.0//EN
METHOD:PUBLISH
X-PUBLISHED-TTL:P3D
REFRESH-INTERVAL:P3D
CALSCALE:GREGORIAN
BEGIN:VEVENT
DTSTART:20160910T160000Z
DTEND:20160910T170000Z
X-MICROSOFT-CDO-ALLDAYEVENT:FALSE
SUMMARY:Kids Klub
DESCRIPTION:Kids' Klub is for Kindergarten\, first\, and second graders . . . and this one is "Messy Art Day"!
X-ALT-DESC;FMTTYPE=text/html:Kids&#39\; Klub is for Kindergarten\, first\, and second graders . . . and this one is &quot\;Messy Art Day&quot\;!
LOCATION:The meeting room at the Frances Banta Waggoner Community Library.
UID:e.1774.1542
SEQUENCE:3
DTSTAMP:20260420T073618Z
URL:https://business.dewittiowa.org/events/details/kids-klub-1542
END:VEVENT

END:VCALENDAR
