BEGIN:VCALENDAR
VERSION:2.0
PRODID:-//ChamberMaster//Event Calendar 2.0//EN
METHOD:PUBLISH
X-PUBLISHED-TTL:P3D
REFRESH-INTERVAL:P3D
CALSCALE:GREGORIAN
BEGIN:VEVENT
DTSTART:20170128T153000Z
DTEND:20170128T160000Z
X-MICROSOFT-CDO-ALLDAYEVENT:FALSE
SUMMARY:Kindermusik
DESCRIPTION:Music and moving\, dancing and playing instruments\, singing and stories
X-ALT-DESC;FMTTYPE=text/html:Music and moving\, dancing and playing instruments\, singing and stories
LOCATION:Frances Banta Waggoner Community Library Meeting Room 505 10th St. DeWitt\, IA
UID:e.1774.1832
SEQUENCE:3
DTSTAMP:20260420T013155Z
URL:https://business.dewittiowa.org/events/details/kindermusik-01-28-2017-1832
END:VEVENT

END:VCALENDAR
