BEGIN:VCALENDAR
VERSION:2.0
PRODID:-//ChamberMaster//Event Calendar 2.0//EN
METHOD:PUBLISH
X-PUBLISHED-TTL:P3D
REFRESH-INTERVAL:P3D
CALSCALE:GREGORIAN
BEGIN:VEVENT
DTSTART:20170211T153000Z
DTEND:20170211T160000Z
X-MICROSOFT-CDO-ALLDAYEVENT:FALSE
SUMMARY:Kindermusik
DESCRIPTION:Music and moving . . . instruments and stories . . . fun for 3 & 4 year olds!
X-ALT-DESC;FMTTYPE=text/html:Music and moving . . . instruments and stories . . . fun for 3 &amp\; 4 year olds!
LOCATION:Frances Banta Waggoner Community Library 505 10th St. DeWitt\, IA
UID:e.1774.1848
SEQUENCE:3
DTSTAMP:20260420T011852Z
URL:https://business.dewittiowa.org/events/details/kindermusik-02-11-2017-1848
END:VEVENT

END:VCALENDAR
