BEGIN:VCALENDAR
VERSION:2.0
PRODID:-//ChamberMaster//Event Calendar 2.0//EN
METHOD:PUBLISH
X-PUBLISHED-TTL:P3D
REFRESH-INTERVAL:P3D
CALSCALE:GREGORIAN
BEGIN:VEVENT
DTSTART:20170225T150000Z
DTEND:20170225T153000Z
X-MICROSOFT-CDO-ALLDAYEVENT:FALSE
SUMMARY:Kindermusik
DESCRIPTION:Music and moving . . . instruments and stories . . .
X-ALT-DESC;FMTTYPE=text/html:Music and moving . . . instruments and stories . . .
LOCATION:Frances Banta Waggoner Community Library 505 10th St. DeWitt\, IA
UID:e.1774.1850
SEQUENCE:3
DTSTAMP:20260420T011853Z
URL:https://business.dewittiowa.org/events/details/kindermusik-02-25-2017-1850
END:VEVENT

END:VCALENDAR
