BEGIN:VCALENDAR
VERSION:2.0
PRODID:-//ChamberMaster//Event Calendar 2.0//EN
METHOD:PUBLISH
X-PUBLISHED-TTL:P3D
REFRESH-INTERVAL:P3D
CALSCALE:GREGORIAN
BEGIN:VEVENT
DTSTART:20170325T143000Z
DTEND:20170325T150000Z
X-MICROSOFT-CDO-ALLDAYEVENT:FALSE
SUMMARY:Kindermusik
DESCRIPTION:Singing\, playing instruments\, stories\, and fun for 3\, 4\, & 5 year olds
X-ALT-DESC;FMTTYPE=text/html:Singing\, playing instruments\, stories\, and fun for 3\, 4\, &amp\; 5 year olds
LOCATION:The Meeting Room at the DeWitt Library
UID:e.1774.1874
SEQUENCE:3
DTSTAMP:20260419T220656Z
URL:https://business.dewittiowa.org/events/details/kindermusik-03-25-2017-1874
END:VEVENT

END:VCALENDAR
