BEGIN:VCALENDAR
VERSION:2.0
PRODID:-//ChamberMaster//Event Calendar 2.0//EN
METHOD:PUBLISH
X-PUBLISHED-TTL:P3D
REFRESH-INTERVAL:P3D
CALSCALE:GREGORIAN
BEGIN:VEVENT
DTSTART:20170422T143000Z
DTEND:20170422T150000Z
X-MICROSOFT-CDO-ALLDAYEVENT:FALSE
SUMMARY:Kindermusik
DESCRIPTION:It's music and moving\, instruments and activities for 3-4-5- year olds!
X-ALT-DESC;FMTTYPE=text/html:It&#39\;s music and moving\, instruments and activities for 3-4-5- year olds!
LOCATION:In the Meeting Room at the DeWitt Library
UID:e.1774.1947
SEQUENCE:3
DTSTAMP:20260419T201516Z
URL:https://business.dewittiowa.org/events/details/kindermusik-04-22-2017-1947
END:VEVENT

END:VCALENDAR
