BEGIN:VCALENDAR
VERSION:2.0
PRODID:-//ChamberMaster//Event Calendar 2.0//EN
METHOD:PUBLISH
X-PUBLISHED-TTL:P3D
REFRESH-INTERVAL:P3D
CALSCALE:GREGORIAN
BEGIN:VEVENT
DTSTART:20170610T143000Z
DTEND:20170610T150000Z
X-MICROSOFT-CDO-ALLDAYEVENT:FALSE
SUMMARY:Kindermusik
DESCRIPTION:For 2\,3\,4\, and 5 year olds - - music and instruments\, moving and activities
X-ALT-DESC;FMTTYPE=text/html:For 2\,3\,4\, and 5 year olds - - music and instruments\, moving and activities
LOCATION:Frances Banta Waggoner Community Library Meeting Room 505 10th St. DeWitt\, IA
UID:e.1774.3104
SEQUENCE:3
DTSTAMP:20260419T182410Z
URL:https://business.dewittiowa.org/events/details/kindermusik-06-10-2017-3104
END:VEVENT

END:VCALENDAR
