BEGIN:VCALENDAR
VERSION:2.0
PRODID:-//ChamberMaster//Event Calendar 2.0//EN
METHOD:PUBLISH
X-PUBLISHED-TTL:P3D
REFRESH-INTERVAL:P3D
CALSCALE:GREGORIAN
BEGIN:VEVENT
DTSTART:20170701T143000Z
DTEND:20170701T150000Z
X-MICROSOFT-CDO-ALLDAYEVENT:FALSE
SUMMARY:Kindermusik
DESCRIPTION:Music\, moving\, instruments\, and singing for 3\, 4\, and 5 year olds
X-ALT-DESC;FMTTYPE=text/html:Music\, moving\, instruments\, and singing for 3\, 4\, and 5 year olds
LOCATION:Frances Banta Waggoner Community Library Meeting Room 505 10th St. DeWitt\, IA 52742
UID:e.1774.3140
SEQUENCE:3
DTSTAMP:20260419T152415Z
URL:https://business.dewittiowa.org/events/details/kindermusik-07-01-2017-3140
END:VEVENT

END:VCALENDAR
