BEGIN:VCALENDAR
VERSION:2.0
PRODID:-//ChamberMaster//Event Calendar 2.0//EN
METHOD:PUBLISH
X-PUBLISHED-TTL:P3D
REFRESH-INTERVAL:P3D
CALSCALE:GREGORIAN
BEGIN:VEVENT
DTSTART:20161008T140000Z
DTEND:20161008T143000Z
X-MICROSOFT-CDO-ALLDAYEVENT:FALSE
SUMMARY:Kindermusik
DESCRIPTION:Kindermusik for 3 & 4 year olds - - learning and fun through music - - with singing\, playing instruments\, rhythms\, moving\, stories\, and poems.
X-ALT-DESC;FMTTYPE=text/html:Kindermusik for 3 &amp\; 4 year olds - - learning and fun through music - - with singing\, playing instruments\, rhythms\, moving\, stories\, and poems.
LOCATION:Frances Banta Waggoner Community Library 505 10th St. DeWitt\, IA
UID:e.1774.1613
SEQUENCE:3
DTSTAMP:20260420T060759Z
URL:https://business.dewittiowa.org/events/details/kindermusik-10-08-2016-1613
END:VEVENT

END:VCALENDAR
