BEGIN:VCALENDAR
VERSION:2.0
PRODID:-//ChamberMaster//Event Calendar 2.0//EN
METHOD:PUBLISH
X-PUBLISHED-TTL:P3D
REFRESH-INTERVAL:P3D
CALSCALE:GREGORIAN
BEGIN:VEVENT
DTSTART:20161210T153000Z
DTEND:20161210T160000Z
X-MICROSOFT-CDO-ALLDAYEVENT:FALSE
SUMMARY:Kindermusik
DESCRIPTION:Kindermusik is for three and four-year-olds - - and includes lots of singing\, dancing\, moving\, and musical instruments . . . AND a story too!
X-ALT-DESC;FMTTYPE=text/html:Kindermusik is for three and four-year-olds - - and includes lots of singing\, dancing\, moving\, and musical instruments . . . AND a story too!
LOCATION:Library meeting room Frances Banta Waggoner Community Library 505 10th St. DeWitt\, IA
UID:e.1774.1714
SEQUENCE:3
DTSTAMP:20260420T025611Z
URL:https://business.dewittiowa.org/events/details/kindermusik-12-10-2016-1714
END:VEVENT

END:VCALENDAR
