BEGIN:VCALENDAR
VERSION:2.0
PRODID:-//ChamberMaster//Event Calendar 2.0//EN
METHOD:PUBLISH
X-PUBLISHED-TTL:P3D
REFRESH-INTERVAL:P3D
CALSCALE:GREGORIAN
BEGIN:VEVENT
DTSTART;VALUE=DATE:20150716
DTEND;VALUE=DATE:20150717
TRANSP:TRANSPARENT
X-MICROSOFT-CDO-ALLDAYEVENT:TRUE
SUMMARY:Kiosk Event - Christmas in July!
DESCRIPTION:Emma Rae's is hosting a Kiosk Event for Christmas in July.  \n\nLarge booth full of Christmas items and gifts!\n Come shopping for Christmas early!
X-ALT-DESC;FMTTYPE=text/html:<span style="font-size:14px\;">Emma Rae&#39\;s is hosting a Kiosk Event for Christmas in July.&nbsp\; </span>\n\n<div style="color: rgb(0\, 0\, 0)\; font-family: Verdana\; font-size: 13.3333330154419px\; line-height: normal\;"><span style="font-size:14px\;">Large booth full of Christmas items and gifts!</span></div>\n<span style="font-size:14px\;"> Come shopping for Christmas early!</span>
LOCATION:Emma Rae's Antiques & Uniques 714 6th Ave DeWitt IA 52742
UID:e.1774.991
SEQUENCE:3
DTSTAMP:20260421T061752Z
URL:https://business.dewittiowa.org/events/details/kiosk-event-christmas-in-july-07-16-2015-991
END:VEVENT

END:VCALENDAR
