BEGIN:VCALENDAR
VERSION:2.0
PRODID:-//ChamberMaster//Event Calendar 2.0//EN
METHOD:PUBLISH
X-PUBLISHED-TTL:P3D
REFRESH-INTERVAL:P3D
CALSCALE:GREGORIAN
BEGIN:VEVENT
DTSTART:20170818T160000Z
DTEND:20170818T190000Z
X-MICROSOFT-CDO-ALLDAYEVENT:FALSE
SUMMARY:Knights of Columbus at Barnes Brat Stand
DESCRIPTION:Help the Knights of Columbus by having lunch at the Barnes Brat stand.
X-ALT-DESC;FMTTYPE=text/html:Help the Knights of Columbus by having lunch at the Barnes Brat stand.
LOCATION:Barnes Foodland 622 10th Street in DeWitt
UID:e.1774.3210
SEQUENCE:3
DTSTAMP:20260419T153339Z
URL:https://business.dewittiowa.org/events/details/knights-of-columbus-at-barnes-brat-stand-3210
END:VEVENT

END:VCALENDAR
