BEGIN:VCALENDAR
VERSION:2.0
PRODID:-//ChamberMaster//Event Calendar 2.0//EN
METHOD:PUBLISH
X-PUBLISHED-TTL:P3D
REFRESH-INTERVAL:P3D
CALSCALE:GREGORIAN
BEGIN:VEVENT
DTSTART:20170721T160000Z
DTEND:20170721T190000Z
X-MICROSOFT-CDO-ALLDAYEVENT:FALSE
SUMMARY:Knights of Columbus at the Barnes Brat Stand
DESCRIPTION:On Friday\, July 21\, the Knights of Columbus will be running the grill at Barnes Foodland. Proceeds from this lunch will go towards the many projects the KC's are working on.
X-ALT-DESC;FMTTYPE=text/html:On Friday\, July 21\, the Knights of Columbus will be running the grill at Barnes Foodland. Proceeds from this lunch will go towards the many projects the KC&#39\;s are working on.
LOCATION:Barnes Brat Stand 622 10th Street DeWitt\, Iowa
UID:e.1774.3182
SEQUENCE:3
DTSTAMP:20260419T153437Z
URL:https://business.dewittiowa.org/events/details/knights-of-columbus-at-the-barnes-brat-stand-3182
END:VEVENT

END:VCALENDAR
