BEGIN:VCALENDAR
VERSION:2.0
PRODID:-//ChamberMaster//Event Calendar 2.0//EN
METHOD:PUBLISH
X-PUBLISHED-TTL:P3D
REFRESH-INTERVAL:P3D
CALSCALE:GREGORIAN
BEGIN:VEVENT
DTSTART:20150829T150000Z
DTEND:20150829T190000Z
X-MICROSOFT-CDO-ALLDAYEVENT:FALSE
SUMMARY:Krieger's Annual Car Show
DESCRIPTION:DeWitt Fire Department cooking hotdogs 11am-1pm\, Car show 10am- 2pm. Come join the fun!!
X-ALT-DESC;FMTTYPE=text/html:DeWitt Fire Department cooking hotdogs&nbsp\;11am-1pm\, Car show 10am- 2pm. Come join the fun!!
LOCATION:Krieger's of DeWitt 2113 11th St. DeWitt IA 52742
UID:e.1774.1025
SEQUENCE:3
DTSTAMP:20260421T044103Z
URL:https://business.dewittiowa.org/events/details/krieger-s-annual-car-show-08-29-2015-1025
END:VEVENT

END:VCALENDAR
