BEGIN:VCALENDAR
VERSION:2.0
PRODID:-//ChamberMaster//Event Calendar 2.0//EN
METHOD:PUBLISH
X-PUBLISHED-TTL:P3D
REFRESH-INTERVAL:P3D
CALSCALE:GREGORIAN
BEGIN:VEVENT
DTSTART:20170819T150000Z
DTEND:20170819T190000Z
X-MICROSOFT-CDO-ALLDAYEVENT:FALSE
SUMMARY:Krieger's Car Show
DESCRIPTION:
X-ALT-DESC;FMTTYPE=text/html:
LOCATION:Krieger's 2113 11th St DeWitt Iowa
UID:e.1774.3190
SEQUENCE:3
DTSTAMP:20260419T133753Z
URL:https://business.dewittiowa.org/events/details/krieger-s-car-show-3190
END:VEVENT

END:VCALENDAR
