BEGIN:VCALENDAR
VERSION:2.0
PRODID:-//ChamberMaster//Event Calendar 2.0//EN
METHOD:PUBLISH
X-PUBLISHED-TTL:P3D
REFRESH-INTERVAL:P3D
CALSCALE:GREGORIAN
BEGIN:VEVENT
DTSTART:20160716T150000Z
DTEND:20160716T190000Z
X-MICROSOFT-CDO-ALLDAYEVENT:FALSE
SUMMARY:Krieger's of DeWitt Annual Classic Custom Car Show
DESCRIPTION:Come join us for our Annual Classic Custom Car Show and Customer Appreciation Day. Food\, Fun and Fantastic Classic Custom Cars!
X-ALT-DESC;FMTTYPE=text/html:Come join us for our Annual Classic Custom Car Show and Customer Appreciation Day. Food\, Fun and Fantastic Classic Custom Cars!
LOCATION:Kriegers of DeWitt 2113 E. 11th St. DeWitt\, IA
UID:e.1774.1498
SEQUENCE:3
DTSTAMP:20260420T122809Z
URL:https://business.dewittiowa.org/events/details/krieger-s-of-dewitt-annual-classic-custom-car-show-07-16-2016-1498
END:VEVENT

END:VCALENDAR
