BEGIN:VCALENDAR
VERSION:2.0
PRODID:-//ChamberMaster//Event Calendar 2.0//EN
METHOD:PUBLISH
X-PUBLISHED-TTL:P3D
REFRESH-INTERVAL:P3D
CALSCALE:GREGORIAN
BEGIN:VEVENT
DTSTART;VALUE=DATE:20160512
DTEND;VALUE=DATE:20160513
TRANSP:TRANSPARENT
X-MICROSOFT-CDO-ALLDAYEVENT:TRUE
SUMMARY:Krispy Kreme Fundraiser for CCSD FIRST Robotics Booster Club
DESCRIPTION:CCSD FIRST Robotics Booster Club is holding our 1st annual Krispy Kreme Fundraiser. We will be taking orders for boxes of 1 dozen Krispy Kreme donuts.  The cost is $8.00 per dozen. We will distribute the donuts May 12th from 3:00 p.m. - 7:00 p.m. at First Congregational United Church of Christ.  The donuts will be made fresh that morning.\n\n\n\nYou must pre-order your Krispy Kremes!\n\n\n\nWatch for robotics team students at your workplace or contact us at cdsdrobotics@gmail.com\n\n\n\nCCSD FIRST Robotics Booster Club is a non-profit organization founded to support\, encourage\, and advance the robotics program and related activities of the Central Community School District FIRST teams.
X-ALT-DESC;FMTTYPE=text/html:CCSD FIRST Robotics Booster Club is holding our 1st annual Krispy Kreme Fundraiser. We will be taking orders for boxes of 1 dozen Krispy Kreme donuts. &nbsp\;The cost is $8.00 per dozen.&nbsp\;We will distribute the donuts May 12th from 3:00 p.m. - 7:00 p.m. at First Congregational United Church of Christ. &nbsp\;The donuts will be made fresh that morning.<br />\n<br />\nYou must pre-order your Krispy Kremes!<br />\n<br />\n<span style="font-family:calibri\,sans-serif\; font-size:11pt">Watch for robotics team students at your workplace or contact us at <a href="mailto:cdsdrobotics@gmail.com">cdsdrobotics@gmail.com</a></span><br />\n<br />\n<span style="font-size:14px"><span style="font-family:arial\,helvetica\,sans-serif">CCSD FIRST Robotics Booster Club is a non-profit organization founded to support\, encourage\, and advance the robotics program and related activities of the Central Community School District FIRST teams.</span></span>
LOCATION:520 E. 11th St. DeWitt\, IA 52742
UID:e.1774.1311
SEQUENCE:3
DTSTAMP:20260420T140033Z
URL:https://business.dewittiowa.org/events/details/krispy-kreme-fundraiser-for-ccsd-first-robotics-booster-club-05-12-2016-1311
END:VEVENT

END:VCALENDAR
