BEGIN:VCALENDAR
VERSION:2.0
PRODID:-//ChamberMaster//Event Calendar 2.0//EN
METHOD:PUBLISH
X-PUBLISHED-TTL:P3D
REFRESH-INTERVAL:P3D
CALSCALE:GREGORIAN
BEGIN:VEVENT
DTSTART:20170812T143000Z
DTEND:20170812T180000Z
X-MICROSOFT-CDO-ALLDAYEVENT:FALSE
SUMMARY:Kurt Kreiter Book Signing & Brunch
DESCRIPTION:Kurt Kreiter Book Signing & Brunch\n\nSaturday Morning\, August 12\n\nDoors Open 9:00 a.m. * Presentation 9:30 a.m. * Brunch & Book Signing Follow\n\nCOACHES * PARENTS * TEACHERS * ATHLETIC BOOSTERS\n\nHear the Story Behind a Beloved Coach's Book!
X-ALT-DESC;FMTTYPE=text/html:<div style="text-align: center\;"><span style="font-size:26px"><strong><span style="font-size:28px"><span style="color:#FF0000">Kurt Kreiter Book Signing &amp\; Brunch</span></span></strong><br />\n<span style="font-size:20px"><strong><span style="font-size:24px">Saturday Morning\, August 12</span></strong><br />\n<span style="font-size:14px">Doors Open 9:00 a.m. * Presentation 9:30 a.m. * Brunch &amp\; Book Signing Follow</span><br />\n<span style="font-size:16px"><strong>COACHES * PARENTS * TEACHERS * ATHLETIC BOOSTERS</strong><br />\n<span style="font-size:20px">Hear the Story Behind a Beloved Coach&#39\;s Book!</span></span></span></span></div>\n
LOCATION:THE CROSSROADS Inspired Living 6th Avenue & 10th Street * Downtown DeWitt
UID:e.1774.3195
SEQUENCE:3
DTSTAMP:20260419T135759Z
URL:https://business.dewittiowa.org/events/details/kurt-kreiter-book-signing-brunch-3195
END:VEVENT

END:VCALENDAR
