BEGIN:VCALENDAR
VERSION:2.0
PRODID:-//ChamberMaster//Event Calendar 2.0//EN
METHOD:PUBLISH
X-PUBLISHED-TTL:P3D
REFRESH-INTERVAL:P3D
CALSCALE:GREGORIAN
BEGIN:VEVENT
DTSTART:20160625T140000Z
DTEND:20160625T160000Z
X-MICROSOFT-CDO-ALLDAYEVENT:FALSE
SUMMARY:Ladies' Brunch
DESCRIPTION:Ladies - come for a delightful day with your friends as you get pampered with Jamberry nails and Rodan & Fields skincare\, indulge in tasty Whisk Away treats and Monocle Roasting coffee and beverages\, and get some great deals on sunglasses for the summer!\n\n\n\nRAFFLE goodies include items such as a free pair of non-prescription sunglasses from Tura and a Lulu Guiness handbag!\n\n\n\nINTRODUCING our newest frame and sunglass line - VERA BRADLEY!
X-ALT-DESC;FMTTYPE=text/html:Ladies -&nbsp\;come for a delightful day with your friends as you get pampered with Jamberry nails and Rodan &amp\; Fields skincare\, indulge in tasty Whisk Away treats and Monocle Roasting coffee and beverages\, and get some great deals on sunglasses for the summer!<br />\n<br />\nRAFFLE goodies include items such as a free pair of non-prescription sunglasses from Tura and a Lulu Guiness handbag!<br />\n<br />\nINTRODUCING our newest frame and sunglass line - VERA BRADLEY!
LOCATION:DeWitt Eyecare 1107 9th Ave. DeWitt\, IA 52742
UID:e.1774.1347
SEQUENCE:3
DTSTAMP:20260420T122046Z
URL:https://business.dewittiowa.org/events/details/ladies-brunch-06-25-2016-1347
END:VEVENT

END:VCALENDAR
