BEGIN:VCALENDAR
VERSION:2.0
PRODID:-//ChamberMaster//Event Calendar 2.0//EN
METHOD:PUBLISH
X-PUBLISHED-TTL:P3D
REFRESH-INTERVAL:P3D
CALSCALE:GREGORIAN
BEGIN:VEVENT
DTSTART;VALUE=DATE:20161119
DTEND;VALUE=DATE:20161120
TRANSP:TRANSPARENT
X-MICROSOFT-CDO-ALLDAYEVENT:TRUE
SUMMARY:Ladies Day at Kunau Implement
DESCRIPTION:It's our annual                               \n\nLadies Night Celebration!\n\nPlease join us for a relaxing evening of fun and friendship! Start your Holiday shopping early\n\nOr pick up something fun for yourself as we enjoy\n\nDoor prizes\, savings\, refreshments and more.\n\n \n\nIt's just our way of saying - Thank You for your\n\nContinued Business!   No worries if you haven't shopped here before!!  Come join us for the fun!!\n\n \n\nGREAT DISCOUNTS will be given on this Night ONLY so don't miss it!
X-ALT-DESC;FMTTYPE=text/html:<strong><span style="font-size:48px">It&rsquo\;s our annual</span><span style="font-size:18pt"><span style="font-size:48px">&hellip\;</span>&nbsp\;&nbsp\;&nbsp\;&nbsp\;&nbsp\;&nbsp\;&nbsp\;&nbsp\;&nbsp\;&nbsp\;&nbsp\;&nbsp\;&nbsp\;&nbsp\;&nbsp\;&nbsp\;&nbsp\;&nbsp\;&nbsp\;&nbsp\;&nbsp\;&nbsp\;&nbsp\;&nbsp\;&nbsp\;&nbsp\;&nbsp\;&nbsp\;&nbsp\;&nbsp\;</span><br />\n<span style="font-size:26pt">Ladies Night Celebration!</span></strong><br />\n<span style="color:rgb(139\, 69\, 19)">Please join us for a relaxing evening of fun and friendship! Start your Holiday shopping early</span><br />\n<span style="color:rgb(139\, 69\, 19)">Or pick up something fun for yourself as we enjoy</span><br />\n<span style="color:rgb(139\, 69\, 19)">Door prizes\, savings\, refreshments and more.</span><br />\n<span style="color:rgb(139\, 69\, 19)">&nbsp\;</span><br />\n<span style="color:rgb(139\, 69\, 19)">It&rsquo\;s just our way of saying -</span><strong>&nbsp\;<u>Thank You for your</u><br />\n<u>Continued Business!</u>&nbsp\;&nbsp\;&nbsp\;No worries if you haven&#39\;t shopped here before!! &nbsp\;Come join us for the fun!!</strong><br />\n<span style="color:rgb(139\, 69\, 19)">&nbsp\;</span><br />\n<strong>GREAT DISCOUNTS will be given on this&nbsp\;Night ONLY so don&rsquo\;t miss it!</strong>
LOCATION:2114 270th Ave\, DeWitt
UID:e.1774.1653
SEQUENCE:3
DTSTAMP:20260420T043017Z
URL:https://business.dewittiowa.org/events/details/ladies-day-at-kunau-implement-1653
END:VEVENT

END:VCALENDAR
