BEGIN:VCALENDAR
VERSION:2.0
PRODID:-//ChamberMaster//Event Calendar 2.0//EN
METHOD:PUBLISH
X-PUBLISHED-TTL:P3D
REFRESH-INTERVAL:P3D
CALSCALE:GREGORIAN
BEGIN:VEVENT
DTSTART:20141118T230000Z
DTEND:20141119T020000Z
X-MICROSOFT-CDO-ALLDAYEVENT:FALSE
SUMMARY:Ladies Night!
DESCRIPTION:Please join us for a relaxing evening of fun and fellowship! Start your Christmas shopping early or pick up something fun for yourself as we enjoy door prizes\, savings\, refreshments\, and more! Special savings this night only!
X-ALT-DESC;FMTTYPE=text/html:Please join us for a relaxing evening of fun and fellowship! Start your Christmas shopping early or pick up something fun for yourself as we enjoy door prizes\, savings\, refreshments\, and more! Special savings this night only!
LOCATION:2114 270th Ave (Hwy 61 N) DeWitt\, IA
UID:e.1774.231
SEQUENCE:3
DTSTAMP:20260421T190021Z
URL:https://business.dewittiowa.org/events/details/ladies-night-11-18-2014-231
END:VEVENT

END:VCALENDAR
