BEGIN:VCALENDAR
VERSION:2.0
PRODID:-//ChamberMaster//Event Calendar 2.0//EN
METHOD:PUBLISH
X-PUBLISHED-TTL:P3D
REFRESH-INTERVAL:P3D
CALSCALE:GREGORIAN
BEGIN:VEVENT
DTSTART:20151005T230000Z
DTEND:20151006T023000Z
X-MICROSOFT-CDO-ALLDAYEVENT:FALSE
SUMMARY:Ladies Night - Movie & Mammo
DESCRIPTION:All area women are invited to attend a complementary "Ladies Night Out" in honor of October being Breast Cancer Awareness Month. Wine & Cheese Social at 6:00 pm\, door prizes & a short program at 7:00 & the movie\, "Age of Adaline" at 7:10 pm.
X-ALT-DESC;FMTTYPE=text/html:All area women are invited to attend a complementary &quot\;Ladies Night Out&quot\; in honor of October being Breast Cancer Awareness Month. Wine &amp\; Cheese Social at 6:00 pm\, door prizes &amp\; a short program at 7:00 &amp\; the movie\, &quot\;Age of Adaline&quot\;&nbsp\;at 7:10 pm.
LOCATION:DeWitt Opera House Theater
UID:e.1774.1060
SEQUENCE:3
DTSTAMP:20260421T013021Z
URL:https://business.dewittiowa.org/events/details/ladies-night-movie-mammo-10-05-2015-1060
END:VEVENT

END:VCALENDAR
