BEGIN:VCALENDAR
VERSION:2.0
PRODID:-//ChamberMaster//Event Calendar 2.0//EN
METHOD:PUBLISH
X-PUBLISHED-TTL:P3D
REFRESH-INTERVAL:P3D
CALSCALE:GREGORIAN
BEGIN:VEVENT
DTSTART:20151123T233000Z
DTEND:20151124T003000Z
X-MICROSOFT-CDO-ALLDAYEVENT:FALSE
SUMMARY:LASIK Seminar
DESCRIPTION:"What is LASIK?"\n\n"Am I a good candidate?"\n\n"What does the process look like?"\n\n"How do I start the process?"\n\nAll of these questions will be answered and more! Drinks & refreshments will be provided.\n\nPlease call our office (563-659-2020) for any questions you might have.
X-ALT-DESC;FMTTYPE=text/html:<p style="text-align: center\;"><em>&quot\;What is LASIK?&quot\;<br />\n&quot\;Am I a good candidate?&quot\;<br />\n&quot\;What does the process look like?&quot\;<br />\n&quot\;How do I start the process?&quot\;</em></p>\n\n<p style="text-align: center\;"><strong>All of these questions will be answered and more! Drinks &amp\; refreshments will be provided.</strong></p>\n\n<p style="text-align: center\;"><strong><strong>Please call our office (563-659-2020)&nbsp\;for any questions you might have.&nbsp\;</strong></strong></p>\n\n<p style="text-align: center\;">&nbsp\;</p>\n
LOCATION:DeWitt Eyecare Clinic 1107 9th Ave. DeWitt\, IA 52742
UID:e.1774.1116
SEQUENCE:3
DTSTAMP:20260420T232826Z
URL:https://business.dewittiowa.org/events/details/lasik-seminar-11-23-2015-1116
END:VEVENT

END:VCALENDAR
