BEGIN:VCALENDAR
VERSION:2.0
PRODID:-//ChamberMaster//Event Calendar 2.0//EN
METHOD:PUBLISH
X-PUBLISHED-TTL:P3D
REFRESH-INTERVAL:P3D
CALSCALE:GREGORIAN
BEGIN:VEVENT
DTSTART:20150826T223000Z
DTEND:20150827T000000Z
X-MICROSOFT-CDO-ALLDAYEVENT:FALSE
SUMMARY:Leave a Lasting Legacy
DESCRIPTION:It is important to many to leave a meaningful legacy. This can be done by distributing our wealth in positive ways and by passing our values on to future generations. Asking the right questions now can help meet the financial needs of your loved ones later. Join Thrivent Financial for a workshop about how to leave a lasting legacy. Gaylon Heetland\, Casey Walker\, and Michele Traver\, Thirvent representatives\, along with attorney David Pillers and funeral director Ray Ackerman will answer your questions about leaving a legacy.
X-ALT-DESC;FMTTYPE=text/html:It is important to many to leave a meaningful legacy. This can be done by distributing our wealth in positive ways and by passing our values on to future generations. Asking the right questions now can help meet the financial needs of your loved ones later. Join Thrivent Financial for a workshop about how to leave a lasting legacy. Gaylon Heetland\, Casey Walker\, and Michele Traver\, Thirvent representatives\, along with attorney David Pillers and funeral director Ray Ackerman will answer your questions about leaving a legacy.
LOCATION:Thrivent Financial office at 908 6th Ave.\, DeWitt.
UID:e.1774.996
SEQUENCE:3
DTSTAMP:20260421T043212Z
URL:https://business.dewittiowa.org/events/details/leave-a-lasting-legacy-08-26-2015-996
END:VEVENT

END:VCALENDAR
