BEGIN:VCALENDAR
VERSION:2.0
PRODID:-//ChamberMaster//Event Calendar 2.0//EN
METHOD:PUBLISH
X-PUBLISHED-TTL:P3D
REFRESH-INTERVAL:P3D
CALSCALE:GREGORIAN
BEGIN:VEVENT
DTSTART:20160213T170000Z
DTEND:20160213T180000Z
X-MICROSOFT-CDO-ALLDAYEVENT:FALSE
SUMMARY:Legislative Coffee
DESCRIPTION:This is a great opportunity to meet your local representatives and hear what their legislative initiatives are this session.  The 2016 Legislative Coffee Program is sponsored by Clinton County Farm Bureau and the DeWitt Chamber & Development Company.
X-ALT-DESC;FMTTYPE=text/html:<span style="font-family: verdana\;"><span style="language: en-US\;"><span style="font-size: 12pt\;">This is a great opportunity to meet your local representatives and hear what their legislative initiatives are this session. &nbsp\;</span></span></span><span style="font-family: verdana\; font-size: 16px\; line-height: 23.2727px\;">The 2016 Legislative Coffee Program is sponsored by Clinton County Farm Bureau and the DeWitt Chamber &amp\; Development Company.</span><br />\n<span style="font-family: verdana\;">&nbsp\;</span><br />\n&nbsp\;
LOCATION:DeWitt Community Center Small Room 512 10th Street DeWitt\, IA 52742
UID:e.1774.1190
SEQUENCE:3
DTSTAMP:20260420T183141Z
URL:https://business.dewittiowa.org/events/details/legislative-coffee-02-13-2016-1190
END:VEVENT

END:VCALENDAR
