BEGIN:VCALENDAR
VERSION:2.0
PRODID:-//ChamberMaster//Event Calendar 2.0//EN
METHOD:PUBLISH
X-PUBLISHED-TTL:P3D
REFRESH-INTERVAL:P3D
CALSCALE:GREGORIAN
BEGIN:VEVENT
DTSTART:20170228T120000Z
DTEND:20170301T003000Z
X-MICROSOFT-CDO-ALLDAYEVENT:FALSE
SUMMARY:7th-12th Grade Legislative Trip to Des Moines Sponsored by Clinton County Extension
DESCRIPTION:Come join Clinton County Extension as we travel by bus with other 4-Hers to Des Moines\, tour the State Capitol complex\, visit with elected officials\, gain a greater understanding of our Iowa state government and learn about our great schools and people. On Tuesday\, February 28th\, 7th-12th grade 4-H members & friends are planning to visit the Judicial Center\, Iowa Legislature and Capitol in Des Moines\, have lunch with legislators\, explore the Science Center of Iowa\, and experience Extreme Weather in the IMAX.
X-ALT-DESC;FMTTYPE=text/html:<span style="font-family:arial\,helvetica\,sans-serif"><span style="font-size:11pt">Come join Clinton County Extension as we travel by bus with other 4-Hers to Des Moines\, tour the State Capitol complex\, visit with elected officials\, gain a greater understanding of our Iowa state government and learn about our great schools and people. On <strong>Tuesday\, February 28th</strong>\,<strong> 7<sup>th</sup>-12<sup>th</sup> grade 4-H members &amp\; friends </strong>are planning to visit the Judicial Center\, Iowa Legislature and Capitol in Des Moines\, have lunch with legislators\, explore the Science Center of Iowa\, and experience Extreme Weather in the IMAX. </span></span>
LOCATION:Des Moines\, IA. We will be taking a Charter Bus. See Departure Schedule Please specify on your registration form where you will be getting on the bus at. This is the time the bus will be LEAVING\, please arrive 5-10 minutes before departure time. 5:30 am McDonald's 2250 Flint Hill Dr\, Dubuque\, IA 52003 (Key West) 6:15 am McDonald's 1720 11th St. DeWitt\, IA 52742 6:50 am FAST STOP\, 1118 US-30\, Stanwood\, IA 52337
UID:e.1774.1857
SEQUENCE:3
DTSTAMP:20260419T235420Z
URL:https://business.dewittiowa.org/events/details/legislative-trip-to-des-moines-sponsored-by-clinton-county-extension-1857
END:VEVENT

END:VCALENDAR
